BEGIN:VCALENDAR
PRODID:-//http://statistik.d-u-v.org//PHP ultracalendar//EN
VERSION:2.0
METHOD:PUBLISH
BEGIN:VEVENT
DTSTAMP:20260419T185854
CREATED:20221218T212157
UID:1776625134.0.64234100-93171@statistik.d-u-v.org
SUMMARY:Night52 - Ultralauf über die Kraichgauhügel
DESCRIPTION: Night52 - Ultralauf über die Kraichgauhügel\n
  Simon Jung\n
  info[at]night52.de
DTSTART:20230715T174500
DTEND:20230716T010000
LOCATION:Bretten\, GER
URL:http://www.night52.de
CATEGORIES:Ultramarathon
CONTACT:Simon Jung
CLASS:PUBLIC
PRIORITY:5
TRANSP:OPAQUE
END:VEVENT
END:VCALENDAR
