BEGIN:VCALENDAR
PRODID:-//http://statistik.d-u-v.org//PHP ultracalendar//EN
VERSION:2.0
METHOD:PUBLISH
BEGIN:VEVENT
DTSTAMP:20260424T211744
CREATED:20221218T024642
UID:1777065464.0.29273900-93148@statistik.d-u-v.org
SUMMARY:Bei-yi Freeway Ultra Marathon
DESCRIPTION: Bei-yi Freeway Ultra Marathon\n
  \n
  ctau.runner[at]gmail.com
DTSTART:20221224T073000
DTEND:00000000T235900
LOCATION:Sindian District\, TPE
URL:https://docs.google.com/document/d/1rfp9OrPjvceN8UPCs43PwMzsFVtZ5AEQuz-V4HKrUdM/edit
CATEGORIES:Ultramarathon
CONTACT:
CLASS:PUBLIC
PRIORITY:5
TRANSP:OPAQUE
END:VEVENT
END:VCALENDAR
