BEGIN:VCALENDAR
PRODID:-//http://statistik.d-u-v.org//PHP ultracalendar//EN
VERSION:2.0
METHOD:PUBLISH
BEGIN:VEVENT
DTSTAMP:20260420T060801
CREATED:20221217T212251
UID:1776665281.0.62897900-93128@statistik.d-u-v.org
SUMMARY:Beast of the East (Monadnock Ultra) 50 Mile
DESCRIPTION: Beast of the East (Monadnock Ultra) 50 Mile\n
  Richard Abernathy\n
  dirtywolfultras[at]gmail.com
DTSTART:20231209T000000
DTEND:00000000T235900
LOCATION:Kings Mountain, NC\, USA
URL:https://www.facebook.com/dirtywolfultras/
CATEGORIES:Ultramarathon
CONTACT:Richard Abernathy
CLASS:PUBLIC
PRIORITY:5
TRANSP:OPAQUE
END:VEVENT
END:VCALENDAR
