BEGIN:VCALENDAR
PRODID:-//http://statistik.d-u-v.org//PHP ultracalendar//EN
VERSION:2.0
METHOD:PUBLISH
BEGIN:VEVENT
DTSTAMP:20260420T005903
CREATED:20221217T205731
UID:1776646743.0.63953000-93122@statistik.d-u-v.org
SUMMARY:Spring On The Trails Endurance Runs - 12h
DESCRIPTION: Spring On The Trails Endurance Runs - 12h\n
  \n
  ctwendurance[at]gmail.com
DTSTART:20230325T000000
DTEND:00000000T235900
LOCATION:Lagrangeville, NY\, USA
URL:https://www.facebook.com/CTWEndurance/
CATEGORIES:Ultramarathon
CONTACT:
CLASS:PUBLIC
PRIORITY:5
TRANSP:OPAQUE
END:VEVENT
END:VCALENDAR
