BEGIN:VCALENDAR
PRODID:-//http://statistik.d-u-v.org//PHP ultracalendar//EN
VERSION:2.0
METHOD:PUBLISH
BEGIN:VEVENT
DTSTAMP:20260419T192227
CREATED:20221217T205730
UID:1776626547.0.74865300-93121@statistik.d-u-v.org
SUMMARY:Spring On The Trails Endurance Runs - 6h
DESCRIPTION: Spring On The Trails Endurance Runs - 6h\n
  \n
  ctwendurance[at]gmail.com
DTSTART:20230325T000000
DTEND:00000000T235900
LOCATION:Lagrangeville, NY\, USA
URL:https://www.facebook.com/CTWEndurance/
CATEGORIES:Ultramarathon
CONTACT:
CLASS:PUBLIC
PRIORITY:5
TRANSP:OPAQUE
END:VEVENT
END:VCALENDAR
