BEGIN:VCALENDAR
PRODID:-//http://statistik.d-u-v.org//PHP ultracalendar//EN
VERSION:2.0
METHOD:PUBLISH
BEGIN:VEVENT
DTSTAMP:20260424T204331
CREATED:20221216T122051
UID:1777063411.0.41990800-93031@statistik.d-u-v.org
SUMMARY:Chongli Challenge
DESCRIPTION: Chongli Challenge\n
  \n
  duhuitiyu[at]qq.com
DTSTART:20220731T080000
DTEND:00000000T235900
LOCATION:Zhangjiakou City\, CHN
URL:http://www.duhuisports.com/?utm_source=zuicool.com&hsmr=zuicool.com
CATEGORIES:Ultramarathon
CONTACT:
CLASS:PUBLIC
PRIORITY:5
TRANSP:OPAQUE
END:VEVENT
END:VCALENDAR
