BEGIN:VCALENDAR
PRODID:-//http://statistik.d-u-v.org//PHP ultracalendar//EN
VERSION:2.0
METHOD:PUBLISH
BEGIN:VEVENT
DTSTAMP:20260421T155029
CREATED:20101130T204316
UID:1776786629.0.89263000-9303@statistik.d-u-v.org
SUMMARY:24 heures 'No Finish Line', Monaco - 6h Split
DESCRIPTION: 24 heures 'No Finish Line', Monaco - 6h Split\n
  \n
  child[at]nofinishline.com
DTSTART:20101127T080000
DTEND:00000000T235900
LOCATION:Monaco\, MON
URL:http://www.nofinishline.com
CATEGORIES:Ultramarathon
CONTACT:
CLASS:PUBLIC
PRIORITY:5
TRANSP:OPAQUE
END:VEVENT
END:VCALENDAR
