BEGIN:VCALENDAR
PRODID:-//http://statistik.d-u-v.org//PHP ultracalendar//EN
VERSION:2.0
METHOD:PUBLISH
BEGIN:VEVENT
DTSTAMP:20260419T211158
CREATED:20221215T164207
UID:1776633118.0.24837200-92987@statistik.d-u-v.org
SUMMARY:Mel Williams Memorial Seashore (Seashore Nature Trail)
DESCRIPTION: Mel Williams Memorial Seashore (Seashore Nature Trail)\n
  Race Director Stacin Martin\n
  stacin.martin[at]gmail.com
DTSTART:20221211T000000
DTEND:00000000T235900
LOCATION:Virginia Beach, VA\, USA
URL:http://tidewaterstriders.com/seashore50K/
CATEGORIES:Ultramarathon
CONTACT:Race Director Stacin Martin
CLASS:PUBLIC
PRIORITY:5
TRANSP:OPAQUE
END:VEVENT
END:VCALENDAR
