BEGIN:VCALENDAR
PRODID:-//http://statistik.d-u-v.org//PHP ultracalendar//EN
VERSION:2.0
METHOD:PUBLISH
BEGIN:VEVENT
DTSTAMP:20260419T183412
CREATED:20221214T131326
UID:1776623652.0.76156000-92939@statistik.d-u-v.org
SUMMARY:Southern Harvest 24 Hour Endurance Challenge
DESCRIPTION: Southern Harvest 24 Hour Endurance Challenge\n
  \n
  tvrrc[at]yahoo.com
DTSTART:20221112T000000
DTEND:20221113T235900
LOCATION:Williamson, WV\, USA
URL:https://www.facebook.com/southernharvesthalf
CATEGORIES:Ultramarathon
CONTACT:
CLASS:PUBLIC
PRIORITY:5
TRANSP:OPAQUE
END:VEVENT
END:VCALENDAR
