BEGIN:VCALENDAR
PRODID:-//http://statistik.d-u-v.org//PHP ultracalendar//EN
VERSION:2.0
METHOD:PUBLISH
BEGIN:VEVENT
DTSTAMP:20260423T040003
CREATED:20221214T050716
UID:1776916803.0.53828100-92903@statistik.d-u-v.org
SUMMARY:Broken Toe 50k
DESCRIPTION: Broken Toe 50k\n
  Race Director Jim Latham\n
  gmgultrarunner[at]gmail.com
DTSTART:20221029T083000
DTEND:00000000T235900
LOCATION:Waynesville, OH\, USA
URL:http://orrrc.org/event/broken-toe-50k/
CATEGORIES:Ultramarathon
CONTACT:Race Director Jim Latham
CLASS:PUBLIC
PRIORITY:5
TRANSP:OPAQUE
END:VEVENT
END:VCALENDAR
