BEGIN:VCALENDAR
PRODID:-//http://statistik.d-u-v.org//PHP ultracalendar//EN
VERSION:2.0
METHOD:PUBLISH
BEGIN:VEVENT
DTSTAMP:20260419T195323
CREATED:20221212T104336
UID:1776628403.0.04661200-92700@statistik.d-u-v.org
SUMMARY:Moab 240 Endurance Run
DESCRIPTION: Moab 240 Endurance Run\n
  Candice Burt\n
  riley[at]destinationtrailrun.com
DTSTART:20231013T000000
DTEND:20231017T235900
LOCATION:Moab, UT\, USA
URL:https://www.destinationtrailrun.com/moab
CATEGORIES:Ultramarathon
CONTACT:Candice Burt
CLASS:PUBLIC
PRIORITY:5
TRANSP:OPAQUE
END:VEVENT
END:VCALENDAR
