BEGIN:VCALENDAR
PRODID:-//http://statistik.d-u-v.org//PHP ultracalendar//EN
VERSION:2.0
METHOD:PUBLISH
BEGIN:VEVENT
DTSTAMP:20260425T235523
CREATED:20221212T094911
UID:1777161323.0.52142400-92665@statistik.d-u-v.org
SUMMARY:Backyard Ultra World Team Championships - Singapore
DESCRIPTION: Backyard Ultra World Team Championships - Singapore\n
  \n
  
DTSTART:20221015T140000
DTEND:20221017T170000
LOCATION:Singapore\, SGP
URL:https://docs.google.com/spreadsheets/d/1V5zS1D-LAZwKeO-ERd9gHkHjJ4nmRlt-9IKn7OgDup8/edit#gid=859121928
CATEGORIES:Ultramarathon
CONTACT:
CLASS:PUBLIC
PRIORITY:5
TRANSP:OPAQUE
END:VEVENT
END:VCALENDAR
