BEGIN:VCALENDAR
PRODID:-//http://statistik.d-u-v.org//PHP ultracalendar//EN
VERSION:2.0
METHOD:PUBLISH
BEGIN:VEVENT
DTSTAMP:20260419T202825
CREATED:20221206T203538
UID:1776630505.0.43124300-92529@statistik.d-u-v.org
SUMMARY:Grand Ridge 50 Km Trail Run
DESCRIPTION: Grand Ridge 50 Km Trail Run\n
  \n
  
DTSTART:20231111T000000
DTEND:00000000T235900
LOCATION:Issaquah, WA\, USA
URL:http://www.evergreentrailruns.com/
CATEGORIES:Ultramarathon
CONTACT:
CLASS:PUBLIC
PRIORITY:5
TRANSP:OPAQUE
END:VEVENT
END:VCALENDAR
