BEGIN:VCALENDAR
PRODID:-//http://statistik.d-u-v.org//PHP ultracalendar//EN
VERSION:2.0
METHOD:PUBLISH
BEGIN:VEVENT
DTSTAMP:20260425T220237
CREATED:20221206T150230
UID:1777154557.0.36650600-92512@statistik.d-u-v.org
SUMMARY:Davao de Oro Mountain Trail Run - 100km
DESCRIPTION: Davao de Oro Mountain Trail Run - 100km\n
  \n
  teamaltitudepilipinas[at]gmail.com
DTSTART:20221022T040000
DTEND:00000000T235900
LOCATION:Davao de Oro\, PHI
URL:https://www.facebook.com/events/734832441174054/?active_tab=about
CATEGORIES:Ultramarathon
CONTACT:
CLASS:PUBLIC
PRIORITY:5
TRANSP:OPAQUE
END:VEVENT
END:VCALENDAR
