BEGIN:VCALENDAR
PRODID:-//http://statistik.d-u-v.org//PHP ultracalendar//EN
VERSION:2.0
METHOD:PUBLISH
BEGIN:VEVENT
DTSTAMP:20260424T141851
CREATED:20221204T193751
UID:1777040331.0.18650000-92418@statistik.d-u-v.org
SUMMARY:The Stuffed Turkey 100 Mile Endurance Race
DESCRIPTION: The Stuffed Turkey 100 Mile Endurance Race\n
  \n
  
DTSTART:20211127T000000
DTEND:20211128T235900
LOCATION:Granger, IA\, USA
URL:https://stuffedturkeyendurance.weebly.com/
CATEGORIES:Ultramarathon
CONTACT:
CLASS:PUBLIC
PRIORITY:5
TRANSP:OPAQUE
END:VEVENT
END:VCALENDAR
