BEGIN:VCALENDAR
PRODID:-//http://statistik.d-u-v.org//PHP ultracalendar//EN
VERSION:2.0
METHOD:PUBLISH
BEGIN:VEVENT
DTSTAMP:20260424T201146
CREATED:20101125T013714
UID:1777061506.0.12780100-9240@statistik.d-u-v.org
SUMMARY:Magredi Mountain Trail 60 km
DESCRIPTION: Magredi Mountain Trail 60 km\n
  Max Bello\n
  presidente[at]magredimountaintrail.com
DTSTART:20111007T220000
DTEND:20111008T235900
LOCATION:Vivaro (PN)\, ITA
URL:http://www.magredimountaintrail.com/
CATEGORIES:Ultramarathon
CONTACT:Max Bello
CLASS:PUBLIC
PRIORITY:5
TRANSP:OPAQUE
END:VEVENT
END:VCALENDAR
