BEGIN:VCALENDAR
PRODID:-//http://statistik.d-u-v.org//PHP ultracalendar//EN
VERSION:2.0
METHOD:PUBLISH
BEGIN:VEVENT
DTSTAMP:20260423T055213
CREATED:20221203T074012
UID:1776923533.0.17106200-92376@statistik.d-u-v.org
SUMMARY:Devil's Den Ultra 12h
DESCRIPTION: Devil's Den Ultra 12h\n
  \n
  jrmosel[at]racemozey.com
DTSTART:20231014T060000
DTEND:00000000T235900
LOCATION:Bradford, VT\, USA
URL:https://diem.life/racemozey178/devil-s-den-ultra/965/66463
CATEGORIES:Ultramarathon
CONTACT:
CLASS:PUBLIC
PRIORITY:5
TRANSP:OPAQUE
END:VEVENT
END:VCALENDAR
