BEGIN:VCALENDAR
PRODID:-//http://statistik.d-u-v.org//PHP ultracalendar//EN
VERSION:2.0
METHOD:PUBLISH
BEGIN:VEVENT
DTSTAMP:20260423T020340
CREATED:20221202T143604
UID:1776909820.0.05971600-92344@statistik.d-u-v.org
SUMMARY:Stone Cat 50 km
DESCRIPTION: Stone Cat 50 km\n
  \n
  
DTSTART:20221105T000000
DTEND:00000000T235900
LOCATION:Ipswich, MA\, USA
URL:https://sites.google.com/site/stonecattrailraces/
CATEGORIES:Ultramarathon
CONTACT:
CLASS:PUBLIC
PRIORITY:5
TRANSP:OPAQUE
END:VEVENT
END:VCALENDAR
