BEGIN:VCALENDAR
PRODID:-//http://statistik.d-u-v.org//PHP ultracalendar//EN
VERSION:2.0
METHOD:PUBLISH
BEGIN:VEVENT
DTSTAMP:20260419T164716
CREATED:20221201T205308
UID:1776617236.0.34800400-92333@statistik.d-u-v.org
SUMMARY:VXO Ultrafest - Frontyard
DESCRIPTION: VXO Ultrafest - Frontyard\n
  Erik Ahlrot\n
  vxo24h[at]vaxjoloparklubb.nu
DTSTART:20230429T090000
DTEND:00000000T235900
LOCATION:Växjö\, SWE
URL:https://runvxo.se/ultrafest/
CATEGORIES:Ultramarathon
CONTACT:Erik Ahlrot
CLASS:PUBLIC
PRIORITY:5
TRANSP:OPAQUE
END:VEVENT
END:VCALENDAR
