BEGIN:VCALENDAR
PRODID:-//http://statistik.d-u-v.org//PHP ultracalendar//EN
VERSION:2.0
METHOD:PUBLISH
BEGIN:VEVENT
DTSTAMP:20260424T214755
CREATED:20221201T205153
UID:1777067275.0.41650000-92325@statistik.d-u-v.org
SUMMARY:Lake Hodges Trail Fest 50K
DESCRIPTION: Lake Hodges Trail Fest 50K\n
  Paul Jesse\n
  racedirector[at]offroadpursuits.com
DTSTART:20221022T070000
DTEND:00000000T235900
LOCATION:Escondido, CA\, USA
URL:https://offroadpursuits.com/lake-hodges-trail-fest/
CATEGORIES:Ultramarathon
CONTACT:Paul Jesse
CLASS:PUBLIC
PRIORITY:5
TRANSP:OPAQUE
END:VEVENT
END:VCALENDAR
