BEGIN:VCALENDAR
PRODID:-//http://statistik.d-u-v.org//PHP ultracalendar//EN
VERSION:2.0
METHOD:PUBLISH
BEGIN:VEVENT
DTSTAMP:20260419T204148
CREATED:20101124T181341
UID:1776631308.0.66161400-9232@statistik.d-u-v.org
SUMMARY:PRO:SPORT Ultra 100 km
DESCRIPTION: PRO:SPORT Ultra 100 km\n
  Race Manager Carin Goldblatt\n
  
DTSTART:20110304T000000
DTEND:00000000T235900
LOCATION:Eshtaol\, ISR
URL:http://www.ultra.org.il/?categoryId=67569
CATEGORIES:Ultramarathon
CONTACT:Race Manager Carin Goldblatt
CLASS:PUBLIC
PRIORITY:5
TRANSP:OPAQUE
END:VEVENT
END:VCALENDAR
