BEGIN:VCALENDAR
PRODID:-//http://statistik.d-u-v.org//PHP ultracalendar//EN
VERSION:2.0
METHOD:PUBLISH
BEGIN:VEVENT
DTSTAMP:20260423T020221
CREATED:20221129T064617
UID:1776909741.0.62034300-92189@statistik.d-u-v.org
SUMMARY:Orkney Backyard Ultra
DESCRIPTION: Orkney Backyard Ultra\n
  Sarah Scarth\n
  sarahscarth79[at]gmail.com
DTSTART:20230708T120000
DTEND:00000000T235900
LOCATION:Twatt Farm\, GBR
URL:https://www.entrycentral.com/orkneybyu
CATEGORIES:Ultramarathon
CONTACT:Sarah Scarth
CLASS:PUBLIC
PRIORITY:5
TRANSP:OPAQUE
END:VEVENT
END:VCALENDAR
