BEGIN:VCALENDAR
PRODID:-//http://statistik.d-u-v.org//PHP ultracalendar//EN
VERSION:2.0
METHOD:PUBLISH
BEGIN:VEVENT
DTSTAMP:20260420T035150
CREATED:20221125T132432
UID:1776657110.0.54631100-92054@statistik.d-u-v.org
SUMMARY:K6 Czech Ultramarathon Festival - 12h
DESCRIPTION: K6 Czech Ultramarathon Festival - 12h\n
  Zdeněk Beneš\n
  k6[at]barokomaraton.cz
DTSTART:20230428T000000
DTEND:20230428T120000
LOCATION:Konstantinovy Lazne\, CZE
URL:http://k6ultra.cz
CATEGORIES:Ultramarathon
CONTACT:Zdeněk Beneš
CLASS:PUBLIC
PRIORITY:5
TRANSP:OPAQUE
END:VEVENT
END:VCALENDAR
