BEGIN:VCALENDAR
PRODID:-//http://statistik.d-u-v.org//PHP ultracalendar//EN
VERSION:2.0
METHOD:PUBLISH
BEGIN:VEVENT
DTSTAMP:20260424T163026
CREATED:20221125T102531
UID:1777048226.0.81718300-92046@statistik.d-u-v.org
SUMMARY:100km von Langenzersdorf
DESCRIPTION: 100km von Langenzersdorf\n
  Stefan Trybus\n
  stefan.trybus[at]hotmail.com
DTSTART:20230429T080000
DTEND:00000000T235900
LOCATION:Langenzersdorf\, AUT
URL:http://www.100km-von-le.at
CATEGORIES:Ultramarathon
CONTACT:Stefan Trybus
CLASS:PUBLIC
PRIORITY:5
TRANSP:OPAQUE
END:VEVENT
END:VCALENDAR
