BEGIN:VCALENDAR
PRODID:-//http://statistik.d-u-v.org//PHP ultracalendar//EN
VERSION:2.0
METHOD:PUBLISH
BEGIN:VEVENT
DTSTAMP:20260424T211715
CREATED:20221123T005026
UID:1777065435.0.12340200-91950@statistik.d-u-v.org
SUMMARY:Sunrise to Sunset Ultramarathon
DESCRIPTION: Sunrise to Sunset Ultramarathon\n
  Christian Hottas\n
  chhottas2[at]yahoo.de
DTSTART:20221218T083000
DTEND:20221218T160000
LOCATION:Hamburg\, GER
URL:https://my.raceresult.com/188781/
CATEGORIES:Ultramarathon
CONTACT:Christian Hottas
CLASS:PUBLIC
PRIORITY:5
TRANSP:OPAQUE
END:VEVENT
END:VCALENDAR
