BEGIN:VCALENDAR
PRODID:-//http://statistik.d-u-v.org//PHP ultracalendar//EN
VERSION:2.0
METHOD:PUBLISH
BEGIN:VEVENT
DTSTAMP:20260423T012126
CREATED:20221121T161230
UID:1776907286.0.94948800-91875@statistik.d-u-v.org
SUMMARY:Dublin International Grand Prix of Race Walking
DESCRIPTION: Dublin International Grand Prix of Race Walking\n
  \n
  
DTSTART:20040627T080000
DTEND:00000000T235900
LOCATION:Dublin City\, IRL
URL:https://www.worldathletics.org/records/toplists/race-walks/50-kilometres-race-walk/outdoor/men/senior/2004?regionType=world&page=1&bestResultsOnly=false
CATEGORIES:Ultramarathon
CONTACT:
CLASS:PUBLIC
PRIORITY:5
TRANSP:OPAQUE
END:VEVENT
END:VCALENDAR
