BEGIN:VCALENDAR
PRODID:-//http://statistik.d-u-v.org//PHP ultracalendar//EN
VERSION:2.0
METHOD:PUBLISH
BEGIN:VEVENT
DTSTAMP:20260422T134021
CREATED:20221121T124641
UID:1776865221.0.05543300-91861@statistik.d-u-v.org
SUMMARY:Österreichische Meisterschaft 50 km Gehen
DESCRIPTION: Österreichische Meisterschaft 50 km Gehen\n
  \n
  
DTSTART:20031005T060000
DTEND:00000000T235900
LOCATION:Wien\, AUT
URL:https://www.worldathletics.org/records/toplists/race-walks/50-kilometres-race-walk/outdoor/men/senior/2003?regionType=world&page=2&bestResultsOnly=false
CATEGORIES:Ultramarathon
CONTACT:
CLASS:PUBLIC
PRIORITY:5
TRANSP:OPAQUE
END:VEVENT
END:VCALENDAR
