BEGIN:VCALENDAR
PRODID:-//http://statistik.d-u-v.org//PHP ultracalendar//EN
VERSION:2.0
METHOD:PUBLISH
BEGIN:VEVENT
DTSTAMP:20260423T100313
CREATED:20221120T184115
UID:1776938593.0.27497700-91852@statistik.d-u-v.org
SUMMARY:Craiova Romanian Race Walking
DESCRIPTION: Craiova Romanian Race Walking\n
  \n
  
DTSTART:20030907T060000
DTEND:00000000T235900
LOCATION:Craiova City\, ROU
URL:https://worldathletics.org/athletes/romania/ciprian-deac-14219264
CATEGORIES:Ultramarathon
CONTACT:
CLASS:PUBLIC
PRIORITY:5
TRANSP:OPAQUE
END:VEVENT
END:VCALENDAR
