BEGIN:VCALENDAR
PRODID:-//http://statistik.d-u-v.org//PHP ultracalendar//EN
VERSION:2.0
METHOD:PUBLISH
BEGIN:VEVENT
DTSTAMP:20260424T150852
CREATED:20221120T165534
UID:1777043332.0.66174900-91826@statistik.d-u-v.org
SUMMARY:Goosebumps 24 Hour Run
DESCRIPTION: Goosebumps 24 Hour Run\n
  \n
  locallupusalliance[at]gmail.com; info[at]locallupus.org
DTSTART:20230922T140000
DTEND:20230923T235900
LOCATION:La Crosse, WI\, USA
URL:https://www.locallupus.org/get-involved-events/goose-bumps-run/
CATEGORIES:Ultramarathon
CONTACT:
CLASS:PUBLIC
PRIORITY:5
TRANSP:OPAQUE
END:VEVENT
END:VCALENDAR
