BEGIN:VCALENDAR
PRODID:-//http://statistik.d-u-v.org//PHP ultracalendar//EN
VERSION:2.0
METHOD:PUBLISH
BEGIN:VEVENT
DTSTAMP:20260420T044135
CREATED:20221117T220330
UID:1776660095.0.11254600-91751@statistik.d-u-v.org
SUMMARY:Val d'Aran by UTMB - Camins de Hèr
DESCRIPTION: Val d'Aran by UTMB - Camins de Hèr\n
  \n
  info[at]aranbyutmb.com
DTSTART:20230707T060000
DTEND:20230708T103000
LOCATION:Les\, ESP
URL:https://valdaran.utmb.world
CATEGORIES:Ultramarathon
CONTACT:
CLASS:PUBLIC
PRIORITY:5
TRANSP:OPAQUE
END:VEVENT
END:VCALENDAR
