BEGIN:VCALENDAR
PRODID:-//http://statistik.d-u-v.org//PHP ultracalendar//EN
VERSION:2.0
METHOD:PUBLISH
BEGIN:VEVENT
DTSTAMP:20260423T055214
CREATED:20221106T144101
UID:1776923534.0.17832200-91533@statistik.d-u-v.org
SUMMARY:24h Lauf Braunschweig - Deutsche Meisterschaft
DESCRIPTION: 24h Lauf Braunschweig - Deutsche Meisterschaft\n
  Dieter Grabow\n
  ultralaufteam[at]gmx.de
DTSTART:20230527T100000
DTEND:20230528T100000
LOCATION:Braunschweig\, GER
URL:https://24h-braunschweig.de/
CATEGORIES:Ultramarathon
CONTACT:Dieter Grabow
CLASS:PUBLIC
PRIORITY:5
TRANSP:OPAQUE
END:VEVENT
END:VCALENDAR
