BEGIN:VCALENDAR
PRODID:-//http://statistik.d-u-v.org//PHP ultracalendar//EN
VERSION:2.0
METHOD:PUBLISH
BEGIN:VEVENT
DTSTAMP:20260422T211818
CREATED:20221106T142457
UID:1776892698.0.91753600-91531@statistik.d-u-v.org
SUMMARY:Ultra Trail du Saint-Jacques by UTMB
DESCRIPTION: Ultra Trail du Saint-Jacques by UTMB\n
  \n
  trailsaintjacques[at]service.utmb.world
DTSTART:20230602T230000
DTEND:00000000T235900
LOCATION:Saugues\, FRA
URL:https://saint-jacques.utmb.world/fr
CATEGORIES:Ultramarathon
CONTACT:
CLASS:PUBLIC
PRIORITY:5
TRANSP:OPAQUE
END:VEVENT
END:VCALENDAR
