BEGIN:VCALENDAR
PRODID:-//http://statistik.d-u-v.org//PHP ultracalendar//EN
VERSION:2.0
METHOD:PUBLISH
BEGIN:VEVENT
DTSTAMP:20260423T020257
CREATED:20221105T151809
UID:1776909777.0.56952400-91501@statistik.d-u-v.org
SUMMARY:Run Woodstock - 100 Mile Hallucination Run
DESCRIPTION: Run Woodstock - 100 Mile Hallucination Run\n
  Dawn McConnachie\n
  info[at]rfevents.com
DTSTART:20230908T160000
DTEND:20230909T220000
LOCATION:Pinckney, MI\, USA
URL:http://www.runwoodstock.com/
CATEGORIES:Ultramarathon
CONTACT:Dawn McConnachie
CLASS:PUBLIC
PRIORITY:5
TRANSP:OPAQUE
END:VEVENT
END:VCALENDAR
