BEGIN:VCALENDAR
PRODID:-//http://statistik.d-u-v.org//PHP ultracalendar//EN
VERSION:2.0
METHOD:PUBLISH
BEGIN:VEVENT
DTSTAMP:20260419T195319
CREATED:20221105T061012
UID:1776628399.0.65752800-91486@statistik.d-u-v.org
SUMMARY:Flagstaff Doggie Dash & Ultra Bash 12h
DESCRIPTION: Flagstaff Doggie Dash & Ultra Bash 12h\n
  \n
  trailgangstaz[at]gmail.com
DTSTART:20220828T070000
DTEND:00000000T235900
LOCATION:Flagstaff, AZ\, USA
URL:https://trailgangstaz.com/pages/events
CATEGORIES:Ultramarathon
CONTACT:
CLASS:PUBLIC
PRIORITY:5
TRANSP:OPAQUE
END:VEVENT
END:VCALENDAR
