BEGIN:VCALENDAR
PRODID:-//http://statistik.d-u-v.org//PHP ultracalendar//EN
VERSION:2.0
METHOD:PUBLISH
BEGIN:VEVENT
DTSTAMP:20260419T183404
CREATED:20221103T075358
UID:1776623644.0.11552000-91408@statistik.d-u-v.org
SUMMARY:Stort 30
DESCRIPTION: Stort 30\n
  \n
  info[at]challenge-running.com
DTSTART:20231029T090000
DTEND:00000000T235900
LOCATION:Bishop's Stortford\, GBR
URL:https://challenge-running.com/stort30/
CATEGORIES:Ultramarathon
CONTACT:
CLASS:PUBLIC
PRIORITY:5
TRANSP:OPAQUE
END:VEVENT
END:VCALENDAR
