BEGIN:VCALENDAR
PRODID:-//http://statistik.d-u-v.org//PHP ultracalendar//EN
VERSION:2.0
METHOD:PUBLISH
BEGIN:VEVENT
DTSTAMP:20260425T170433
CREATED:20221101T024518
UID:1777136673.0.85553400-91353@statistik.d-u-v.org
SUMMARY:Santo Ultra Maranic - Hanshin Course
DESCRIPTION: Santo Ultra Maranic - Hanshin Course\n
  \n
  santoultra200[at]gmail.com
DTSTART:20221016T080000
DTEND:00000000T235900
LOCATION:Osaka\, JPN
URL:http://mayu2016.a.la9.jp/santoultra/santoultra200.html
CATEGORIES:Ultramarathon
CONTACT:
CLASS:PUBLIC
PRIORITY:5
TRANSP:OPAQUE
END:VEVENT
END:VCALENDAR
