BEGIN:VCALENDAR
PRODID:-//http://statistik.d-u-v.org//PHP ultracalendar//EN
VERSION:2.0
METHOD:PUBLISH
BEGIN:VEVENT
DTSTAMP:20260419T213447
CREATED:20221031T201422
UID:1776634487.0.58378200-91328@statistik.d-u-v.org
SUMMARY:Salt Pans Ultra Marathon 100 km
DESCRIPTION: Salt Pans Ultra Marathon 100 km\n
  Stefan Ortwein\n
  info[at]saltpansultra.com
DTSTART:20230930T020000
DTEND:00000000T235900
LOCATION:Mosu / Makgadikgadi\, BOT
URL:https://www.saltpansultra.com/
CATEGORIES:Ultramarathon
CONTACT:Stefan Ortwein
CLASS:PUBLIC
PRIORITY:5
TRANSP:OPAQUE
END:VEVENT
END:VCALENDAR
