BEGIN:VCALENDAR
PRODID:-//http://statistik.d-u-v.org//PHP ultracalendar//EN
VERSION:2.0
METHOD:PUBLISH
BEGIN:VEVENT
DTSTAMP:20260419T220836
CREATED:20221030T071751
UID:1776636516.0.43154500-91263@statistik.d-u-v.org
SUMMARY:Miola Madness 9h
DESCRIPTION: Miola Madness 9h\n
  \n
  
DTSTART:20220813T060000
DTEND:00000000T235900
LOCATION:Paola, KS\, USA
URL:https://www.facebook.com/midwestenduranceraceco
CATEGORIES:Ultramarathon
CONTACT:
CLASS:PUBLIC
PRIORITY:5
TRANSP:OPAQUE
END:VEVENT
END:VCALENDAR
