BEGIN:VCALENDAR
PRODID:-//http://statistik.d-u-v.org//PHP ultracalendar//EN
VERSION:2.0
METHOD:PUBLISH
BEGIN:VEVENT
DTSTAMP:20260419T185927
CREATED:20110805T153838
UID:1776625167.0.48163800-9122@statistik.d-u-v.org
SUMMARY:24 Hours of Utah - 12 hour race
DESCRIPTION: 24 Hours of Utah - 12 hour race\n
  \n
  reid_delman[at]geminiadventures.com
DTSTART:20120324T070000
DTEND:00000000T235900
LOCATION:Moab, UT\, USA
URL:http://geminiadventures.com/moab100.html
CATEGORIES:Ultramarathon
CONTACT:
CLASS:PUBLIC
PRIORITY:5
TRANSP:OPAQUE
END:VEVENT
END:VCALENDAR
