BEGIN:VCALENDAR
PRODID:-//http://statistik.d-u-v.org//PHP ultracalendar//EN
VERSION:2.0
METHOD:PUBLISH
BEGIN:VEVENT
DTSTAMP:20260423T144955
CREATED:20221028T160836
UID:1776955795.0.66651200-91158@statistik.d-u-v.org
SUMMARY:Fjällmaraton 100K
DESCRIPTION: Fjällmaraton 100K\n
  Patrik Nordin\n
  info[at]fjallmaraton.se
DTSTART:20230803T050000
DTEND:00000000T235900
LOCATION:Fångåmon\, SWE
URL:https://fjallmaraton.se/fjallmaratonveckan/fjallmaraton-100k/
CATEGORIES:Ultramarathon
CONTACT:Patrik Nordin
CLASS:PUBLIC
PRIORITY:5
TRANSP:OPAQUE
END:VEVENT
END:VCALENDAR
