BEGIN:VCALENDAR
PRODID:-//http://statistik.d-u-v.org//PHP ultracalendar//EN
VERSION:2.0
METHOD:PUBLISH
BEGIN:VEVENT
DTSTAMP:20260423T095115
CREATED:20221023T105749
UID:1776937875.0.08882900-90992@statistik.d-u-v.org
SUMMARY:Joy Run 50
DESCRIPTION: Joy Run 50\n
  \n
  
DTSTART:20220730T000000
DTEND:00000000T235900
LOCATION:Steady Brook, NL\, CAN
URL:https://www.eventbrite.ca/e/joy-run-50-tickets-149477484179?aff=erelexpmlt
CATEGORIES:Ultramarathon
CONTACT:
CLASS:PUBLIC
PRIORITY:5
TRANSP:OPAQUE
END:VEVENT
END:VCALENDAR
