BEGIN:VCALENDAR
PRODID:-//http://statistik.d-u-v.org//PHP ultracalendar//EN
VERSION:2.0
METHOD:PUBLISH
BEGIN:VEVENT
DTSTAMP:20260423T012123
CREATED:20221023T104140
UID:1776907283.0.03523600-90991@statistik.d-u-v.org
SUMMARY:Crazy Mountain 100
DESCRIPTION: Crazy Mountain 100\n
  \n
  
DTSTART:20230728T060000
DTEND:20230729T235900
LOCATION:Lennep, MT\, USA
URL:https://www.crazymountainultra.com/
CATEGORIES:Ultramarathon
CONTACT:
CLASS:PUBLIC
PRIORITY:5
TRANSP:OPAQUE
END:VEVENT
END:VCALENDAR
