BEGIN:VCALENDAR
PRODID:-//http://statistik.d-u-v.org//PHP ultracalendar//EN
VERSION:2.0
METHOD:PUBLISH
BEGIN:VEVENT
DTSTAMP:20260423T070051
CREATED:20221018T101819
UID:1776927651.0.75346900-90826@statistik.d-u-v.org
SUMMARY:Dynafit TransAlpine-Run Team
DESCRIPTION: Dynafit TransAlpine-Run Team\n
  Jürgen Kurapkat\n
  juergen.kurapkat[at]planb-event.com
DTSTART:20230909T080000
DTEND:20230916T220000
LOCATION:Garmisch-Partenkirchen\, AUT
URL:http://www.transalpine-run.com
CATEGORIES:Ultramarathon
CONTACT:Jürgen Kurapkat
CLASS:PUBLIC
PRIORITY:5
TRANSP:OPAQUE
END:VEVENT
END:VCALENDAR
