BEGIN:VCALENDAR
PRODID:-//http://statistik.d-u-v.org//PHP ultracalendar//EN
VERSION:2.0
METHOD:PUBLISH
BEGIN:VEVENT
DTSTAMP:20260419T220830
CREATED:20221018T101248
UID:1776636510.0.33090200-90824@statistik.d-u-v.org
SUMMARY:Mayrhofen Ultraks Zillertal - TUX070
DESCRIPTION: Mayrhofen Ultraks Zillertal - TUX070\n
  \n
  mayrhofen[at]ultraks.com
DTSTART:20230909T053000
DTEND:00000000T235900
LOCATION:Mayrhofen\, AUT
URL:http://mayrhofen.ultraks.com
CATEGORIES:Ultramarathon
CONTACT:
CLASS:PUBLIC
PRIORITY:5
TRANSP:OPAQUE
END:VEVENT
END:VCALENDAR
