BEGIN:VCALENDAR
PRODID:-//http://statistik.d-u-v.org//PHP ultracalendar//EN
VERSION:2.0
METHOD:PUBLISH
BEGIN:VEVENT
DTSTAMP:20260419T223139
CREATED:20101114T123829
UID:1776637899.0.77054700-9064@statistik.d-u-v.org
SUMMARY:Pony Express Trail 100 Mile
DESCRIPTION: Pony Express Trail 100 Mile\n
  Race Director Davy Crockett\n
  ultracrockett[at]gmail.com
DTSTART:20111021T070000
DTEND:20111022T235900
LOCATION:Faust, UT\, USA
URL:http://ponyexpress100.org/
CATEGORIES:Ultramarathon
CONTACT:Race Director Davy Crockett
CLASS:PUBLIC
PRIORITY:5
TRANSP:OPAQUE
END:VEVENT
END:VCALENDAR
