BEGIN:VCALENDAR
PRODID:-//http://statistik.d-u-v.org//PHP ultracalendar//EN
VERSION:2.0
METHOD:PUBLISH
BEGIN:VEVENT
DTSTAMP:20260423T052613
CREATED:20221009T172441
UID:1776921973.0.32144800-90622@statistik.d-u-v.org
SUMMARY:Stone House 50 Miles
DESCRIPTION: Stone House 50 Miles\n
  \n
  craigthompson[at]greenswell.com
DTSTART:20220521T060000
DTEND:00000000T235900
LOCATION:Cambridge, OH\, USA
URL:https://americantriple-t.com/trail-runs/
CATEGORIES:Ultramarathon
CONTACT:
CLASS:PUBLIC
PRIORITY:5
TRANSP:OPAQUE
END:VEVENT
END:VCALENDAR
