BEGIN:VCALENDAR
PRODID:-//http://statistik.d-u-v.org//PHP ultracalendar//EN
VERSION:2.0
METHOD:PUBLISH
BEGIN:VEVENT
DTSTAMP:20260419T183255
CREATED:20221009T093911
UID:1776623575.0.19641700-90599@statistik.d-u-v.org
SUMMARY:INFINITUS 2022 - 100 Mile Ultramarathon
DESCRIPTION: INFINITUS 2022 - 100 Mile Ultramarathon\n
  \n
  
DTSTART:20220527T000000
DTEND:20220530T235900
LOCATION:Goshen, VT\, USA
URL:http://www.endurancesociety.org/infinitus.html
CATEGORIES:Ultramarathon
CONTACT:
CLASS:PUBLIC
PRIORITY:5
TRANSP:OPAQUE
END:VEVENT
END:VCALENDAR
