BEGIN:VCALENDAR
PRODID:-//http://statistik.d-u-v.org//PHP ultracalendar//EN
VERSION:2.0
METHOD:PUBLISH
BEGIN:VEVENT
DTSTAMP:20260420T005853
CREATED:20221009T084020
UID:1776646733.0.22566100-90596@statistik.d-u-v.org
SUMMARY:Mass Extinction Elimination Endurance Challenge
DESCRIPTION: Mass Extinction Elimination Endurance Challenge\n
  \n
  
DTSTART:20220514T070000
DTEND:00000000T235900
LOCATION:Fort Mill, SC\, USA
URL:https://www.facebook.com/extinctionrace
CATEGORIES:Ultramarathon
CONTACT:
CLASS:PUBLIC
PRIORITY:5
TRANSP:OPAQUE
END:VEVENT
END:VCALENDAR
