BEGIN:VCALENDAR
PRODID:-//http://statistik.d-u-v.org//PHP ultracalendar//EN
VERSION:2.0
METHOD:PUBLISH
BEGIN:VEVENT
DTSTAMP:20260420T061700
CREATED:20221008T143712
UID:1776665820.0.93721300-90569@statistik.d-u-v.org
SUMMARY:ENDURE 24 Hour Race
DESCRIPTION: ENDURE 24 Hour Race\n
  Race Director John Lacroix\n
  sherpajohn[at]gmail.com
DTSTART:20220514T060000
DTEND:20220515T060000
LOCATION:Divide, CO\, USA
URL:http://humanpotentialrunning.com/races/tommyknocker-ultras/
CATEGORIES:Ultramarathon
CONTACT:Race Director John Lacroix
CLASS:PUBLIC
PRIORITY:5
TRANSP:OPAQUE
END:VEVENT
END:VCALENDAR
