BEGIN:VCALENDAR
PRODID:-//http://statistik.d-u-v.org//PHP ultracalendar//EN
VERSION:2.0
METHOD:PUBLISH
BEGIN:VEVENT
DTSTAMP:20260425T235542
CREATED:20221007T213233
UID:1777161342.0.11860200-90553@statistik.d-u-v.org
SUMMARY:UMF Summer Ed. 10d - 6d Split
DESCRIPTION: UMF Summer Ed. 10d - 6d Split\n
  Pasquale Brandi\n
  pasqual.brandi[at]tiscali.it
DTSTART:20220921T150000
DTEND:20221001T150000
LOCATION:Policoro (MT)\, ITA
URL:https://www.6giornidelpantano.com/
CATEGORIES:Ultramarathon
CONTACT:Pasquale Brandi
CLASS:PUBLIC
PRIORITY:5
TRANSP:OPAQUE
END:VEVENT
END:VCALENDAR
